BEGIN:VCALENDAR
VERSION:2.0
PRODID:-//Library Market//iCal Export//EN
BEGIN:VEVENT
SUMMARY:Friends of the Library Book Sale
UID:74219
DTSTAMP:20260419T154500Z
DTSTART:20260418T050000Z
DTEND:20260424T050000Z
LOCATION:755 East State Street, Cherry Valley, IL 61016, United States
ROOM: Friends of the Library Public Meeting Room
DESCRIPTION:Book sale open during library open hours:Saturday - 9am to 5pm
 Sunday - 1 to 5pmMonday-Thursday - 9am to 8pmFriday - 9am to 5pm
URL:https://cherryvalleylib.librarymarket.com/event/book-sale-74219
END:VEVENT
END:VCALENDAR
